BEGIN:VCALENDAR
VERSION:2.0
BEGIN:VEVENT
DTSTAMP:20131113T183000
STATUS:CONFIRMED
UID:1560363617addtocalendar
DTSTART:20131113T183000
DTEND:20131113T183000
SUMMARY:&quot;Pictures from a Hiroshima Schoolyard&quot; Screening
DESCRIPTION:NPC Committee Chairs
LOCATION:The National Press Club | Holeman Lounge
BEGIN:VALARM
TRIGGER:-PT15M
ACTION:DISPLAY
END:VALARM
TRANSP:OPAQUE
END:VEVENT
END:VCALENDAR